BEGIN:VCALENDAR
VERSION:2.0
PRODID:-//Representative Shia Fisher - ECPv6.11.2.1//NONSGML v1.0//EN
CALSCALE:GREGORIAN
METHOD:PUBLISH
X-ORIGINAL-URL:https://asm.dailyshia.com
X-WR-CALDESC:Events for Representative Shia Fisher
REFRESH-INTERVAL;VALUE=DURATION:PT1H
X-Robots-Tag:noindex
X-PUBLISHED-TTL:PT1H
BEGIN:VTIMEZONE
TZID:America/Chicago
BEGIN:DAYLIGHT
TZOFFSETFROM:-0600
TZOFFSETTO:-0500
TZNAME:CDT
DTSTART:20230312T080000
END:DAYLIGHT
BEGIN:STANDARD
TZOFFSETFROM:-0500
TZOFFSETTO:-0600
TZNAME:CST
DTSTART:20231105T070000
END:STANDARD
END:VTIMEZONE
BEGIN:VTIMEZONE
TZID:UTC
BEGIN:STANDARD
TZOFFSETFROM:+0000
TZOFFSETTO:+0000
TZNAME:UTC
DTSTART:20230101T000000
END:STANDARD
END:VTIMEZONE
BEGIN:VEVENT
DTSTART;TZID=America/Chicago:20230323T160000
DTEND;TZID=America/Chicago:20230323T170000
DTSTAMP:20260423T111930
CREATED:20230324T033727Z
LAST-MODIFIED:20230324T033727Z
UID:364-1679587200-1679590800@asm.dailyshia.com
SUMMARY:Meet and Greet Table
DESCRIPTION:
URL:https://asm.dailyshia.com/event/meet-and-greet-table/
LOCATION:CS Building\, 1210 W Dayton St\, Madison\, WI\, 53706
END:VEVENT
BEGIN:VEVENT
DTSTART;TZID=America/Chicago:20230323T143000
DTEND;TZID=America/Chicago:20230323T153000
DTSTAMP:20260423T111930
CREATED:20230324T033209Z
LAST-MODIFIED:20230324T033209Z
UID:362-1679581800-1679585400@asm.dailyshia.com
SUMMARY:In Class Presentation
DESCRIPTION:
URL:https://asm.dailyshia.com/event/in-class-presentation/
LOCATION:WI
END:VEVENT
BEGIN:VEVENT
DTSTART;TZID=UTC:20230313T113000
DTEND;TZID=UTC:20230313T140000
DTSTAMP:20260423T111930
CREATED:20230314T032612Z
LAST-MODIFIED:20230314T032612Z
UID:76-1678707000-1678716000@asm.dailyshia.com
SUMMARY:Kick off Meeting!
DESCRIPTION:
URL:https://asm.dailyshia.com/event/kick-off-meeting/
LOCATION:Zoom
END:VEVENT
END:VCALENDAR